BEGIN:VCALENDAR
VERSION:2.0
PRODID:-//The Colonial Oak Music Park - ECPv6.15.12.2//NONSGML v1.0//EN
CALSCALE:GREGORIAN
METHOD:PUBLISH
X-ORIGINAL-URL:https://www.thecolonialoakmusicpark.com
X-WR-CALDESC:Events for The Colonial Oak Music Park
REFRESH-INTERVAL;VALUE=DURATION:PT1H
X-Robots-Tag:noindex
X-PUBLISHED-TTL:PT1H
BEGIN:VTIMEZONE
TZID:UTC
BEGIN:STANDARD
TZOFFSETFROM:+0000
TZOFFSETTO:+0000
TZNAME:UTC
DTSTART:20230101T000000
END:STANDARD
END:VTIMEZONE
BEGIN:VEVENT
DTSTART;VALUE=DATE:20241128
DTEND;VALUE=DATE:20241129
DTSTAMP:20260422T092005
CREATED:20220213T040519Z
LAST-MODIFIED:20241028T112619Z
UID:16348-1732752000-1732838399@www.thecolonialoakmusicpark.com
SUMMARY:Closed! Happy Thanksgiving!
DESCRIPTION:We are closed for Thanksgiving! See you back for more FREE live music tomorrow!
URL:https://www.thecolonialoakmusicpark.com/event/closed-happy-thanksgiving-2/
LOCATION:Colonial Oak Music Park\, 21 St George Street\, St Augustine\, FL\, 32084\, United States
END:VEVENT
END:VCALENDAR