BEGIN:VCALENDAR
VERSION:2.0
PRODID:-//The Colonial Oak Music Park - ECPv6.15.12.2//NONSGML v1.0//EN
CALSCALE:GREGORIAN
METHOD:PUBLISH
X-ORIGINAL-URL:https://www.thecolonialoakmusicpark.com
X-WR-CALDESC:Events for The Colonial Oak Music Park
REFRESH-INTERVAL;VALUE=DURATION:PT1H
X-Robots-Tag:noindex
X-PUBLISHED-TTL:PT1H
BEGIN:VTIMEZONE
TZID:UTC
BEGIN:STANDARD
TZOFFSETFROM:+0000
TZOFFSETTO:+0000
TZNAME:UTC
DTSTART:20230101T000000
END:STANDARD
END:VTIMEZONE
BEGIN:VEVENT
DTSTART;TZID=UTC:20241031T190000
DTEND;TZID=UTC:20241031T220000
DTSTAMP:20260422T105402
CREATED:20220213T054550Z
LAST-MODIFIED:20241003T125813Z
UID:16317-1730401200-1730412000@www.thecolonialoakmusicpark.com
SUMMARY:Halloween Caravel Concert w/ Jess Zimmerman Band! - October 31
DESCRIPTION:Spend Halloween at the Colonial Quarter’s Maritime stage with a performance by the Jess Zimmerman Band on October 31st from 7-10 PM! \n\n\nDrawing inspiration from musicians/artists such as Halestorm\, Underwood\, Van Halen\, Gaga\, Benatar\, and McBride\, The Jess Zimmerman Band is a sweet cocktail of country and rock music adding in variety of other genres providing an exciting and entertaining live show! \n\nFree Admission\nFamily Friendly\nMultiple bars on site featuring St. Augustine Distillery spirits.\nBrought to you in partnership with the St. Augustine Distillery\n\n\nEnter at the Bayfront – 14 S Castillo Dr\nOR\nDirectly on St. George Street next to The Bull and Crown Pub! 53 St. George Street
URL:https://www.thecolonialoakmusicpark.com/event/halloween-caravel-concert-w-jess-zimmerman-band-october-31/
LOCATION:Colonial Quarter
END:VEVENT
END:VCALENDAR