BEGIN:VCALENDAR
VERSION:2.0
PRODID:-//The Colonial Oak Music Park - ECPv6.15.12.2//NONSGML v1.0//EN
CALSCALE:GREGORIAN
METHOD:PUBLISH
X-WR-CALNAME:The Colonial Oak Music Park
X-ORIGINAL-URL:https://www.thecolonialoakmusicpark.com
X-WR-CALDESC:Events for The Colonial Oak Music Park
REFRESH-INTERVAL;VALUE=DURATION:PT1H
X-Robots-Tag:noindex
X-PUBLISHED-TTL:PT1H
BEGIN:VTIMEZONE
TZID:UTC
BEGIN:STANDARD
TZOFFSETFROM:+0000
TZOFFSETTO:+0000
TZNAME:UTC
DTSTART:20230101T000000
END:STANDARD
END:VTIMEZONE
BEGIN:VEVENT
DTSTART;TZID=UTC:20240908T170000
DTEND;TZID=UTC:20240908T220000
DTSTAMP:20260421T121237
CREATED:20220213T084033Z
LAST-MODIFIED:20240814T150941Z
UID:16203-1725814800-1725832800@www.thecolonialoakmusicpark.com
SUMMARY:Sing Out Loud - September 8
DESCRIPTION:5:00pm – Madison Hughes\n6:00pm – The JC Hatfield Trio\n7:00pm – Jam-ology House Band\n8:00pm – Sparks in the Garden
URL:https://www.thecolonialoakmusicpark.com/event/sing-out-loud-september-8/
LOCATION:Colonial Oak Music Park\, 21 St George Street\, St Augustine\, FL\, 32084\, United States
ATTACH;FMTTYPE=image/png:https://www.thecolonialoakmusicpark.com/wp-content/uploads/2024/08/Screenshot-2024-07-31-at-11.58.34 AM.png
END:VEVENT
END:VCALENDAR