BEGIN:VCALENDAR
VERSION:2.0
PRODID:-//The Colonial Oak Music Park - ECPv6.15.12.2//NONSGML v1.0//EN
CALSCALE:GREGORIAN
METHOD:PUBLISH
X-ORIGINAL-URL:https://www.thecolonialoakmusicpark.com
X-WR-CALDESC:Events for The Colonial Oak Music Park
REFRESH-INTERVAL;VALUE=DURATION:PT1H
X-Robots-Tag:noindex
X-PUBLISHED-TTL:PT1H
BEGIN:VTIMEZONE
TZID:UTC
BEGIN:STANDARD
TZOFFSETFROM:+0000
TZOFFSETTO:+0000
TZNAME:UTC
DTSTART:20230101T000000
END:STANDARD
END:VTIMEZONE
BEGIN:VEVENT
DTSTART;TZID=UTC:20240801T190000
DTEND;TZID=UTC:20240801T220000
DTSTAMP:20260422T013823
CREATED:20220213T110517Z
LAST-MODIFIED:20240731T142524Z
UID:16129-1722538800-1722549600@www.thecolonialoakmusicpark.com
SUMMARY:Country Night w/ Smokey Jones & The 3 Dollar Pistols - August 1
DESCRIPTION:Thursday means one thing at the Oak — Country Night!\nCome see us with Smokey Jones and the 3 Dollar Pistols! \n\nFREE show\n7-10 PM\nFun for all ages\nFriendly pups welcome\nMultiple bars stocked with craft beers\, St. Augustine Distillery Products\, & more!\nOn site dining from St. Augustine Seafood Company!\n\n\n\nClick here for Instagram!\nClick here for Facebook!
URL:https://www.thecolonialoakmusicpark.com/event/country-night-w-smoke-jones-the-3-dollar-pistols-august-1/
LOCATION:Colonial Oak Music Park\, 21 St George Street\, St Augustine\, FL\, 32084\, United States
CATEGORIES:Country Night
ATTACH;FMTTYPE=image/jpeg:https://www.thecolonialoakmusicpark.com/wp-content/uploads/2024/07/Smokey-Jones.jpg
END:VEVENT
END:VCALENDAR