BEGIN:VCALENDAR
VERSION:2.0
PRODID:-//The Colonial Oak Music Park - ECPv6.15.12.2//NONSGML v1.0//EN
CALSCALE:GREGORIAN
METHOD:PUBLISH
X-WR-CALNAME:The Colonial Oak Music Park
X-ORIGINAL-URL:https://www.thecolonialoakmusicpark.com
X-WR-CALDESC:Events for The Colonial Oak Music Park
REFRESH-INTERVAL;VALUE=DURATION:PT1H
X-Robots-Tag:noindex
X-PUBLISHED-TTL:PT1H
BEGIN:VTIMEZONE
TZID:UTC
BEGIN:STANDARD
TZOFFSETFROM:+0000
TZOFFSETTO:+0000
TZNAME:UTC
DTSTART:20230101T000000
END:STANDARD
END:VTIMEZONE
BEGIN:VEVENT
DTSTART;TZID=UTC:20240606T190000
DTEND;TZID=UTC:20240606T220000
DTSTAMP:20260421T152718
CREATED:20220213T141042Z
LAST-MODIFIED:20240515T145452Z
UID:16038-1717700400-1717711200@www.thecolonialoakmusicpark.com
SUMMARY:Playin' Possum - June 6
DESCRIPTION:Thursday means one thing at the Oak — Country Night \nCome see us with Playin’ Possum!\n\nFREE show\n7-10 PM\nFun for all ages\nFriendly pups welcome\nMultiple bars stocked with craft beers\, St. Augustine Distillery Products\, & more!\nOn site dining from St. Augustine Seafood Company!\n\n\n\nClick here for Instagram!\nClick here for Facebook!
URL:https://www.thecolonialoakmusicpark.com/event/playin-possum-june-6/
LOCATION:Colonial Oak Music Park\, 21 St George Street\, St Augustine\, FL\, 32084\, United States
ATTACH;FMTTYPE=image/heic:https://www.thecolonialoakmusicpark.com/wp-content/uploads/2024/05/Playin-possum-2024.heic
END:VEVENT
END:VCALENDAR