BEGIN:VCALENDAR
VERSION:2.0
PRODID:-//The Colonial Oak Music Park - ECPv6.15.12.2//NONSGML v1.0//EN
CALSCALE:GREGORIAN
METHOD:PUBLISH
X-ORIGINAL-URL:https://www.thecolonialoakmusicpark.com
X-WR-CALDESC:Events for The Colonial Oak Music Park
REFRESH-INTERVAL;VALUE=DURATION:PT1H
X-Robots-Tag:noindex
X-PUBLISHED-TTL:PT1H
BEGIN:VTIMEZONE
TZID:UTC
BEGIN:STANDARD
TZOFFSETFROM:+0000
TZOFFSETTO:+0000
TZNAME:UTC
DTSTART:20230101T000000
END:STANDARD
END:VTIMEZONE
BEGIN:VEVENT
DTSTART;TZID=UTC:20240601T190000
DTEND;TZID=UTC:20240601T220000
DTSTAMP:20260423T111128
CREATED:20220213T142502Z
LAST-MODIFIED:20240515T140129Z
UID:16015-1717268400-1717279200@www.thecolonialoakmusicpark.com
SUMMARY:Uncommon Legends - June 1
DESCRIPTION:See you on June 1st with Uncommon Legends!\n\nFREE show\n7-10 PM\nFun for all ages\nFriendly pups welcome\nMultiple bars stocked with craft beers\, St. Augustine Distillery Products\, & more!\nOn site dining from St. Augustine Seafood Company!\n\n\n\nClick here for Instagram!\nClick here for Facebook!
URL:https://www.thecolonialoakmusicpark.com/event/uncommon-legends-june-1/
LOCATION:Colonial Oak Music Park\, 21 St George Street\, St Augustine\, FL\, 32084\, United States
ATTACH;FMTTYPE=image/jpeg:https://www.thecolonialoakmusicpark.com/wp-content/uploads/2024/05/Uncommon-Legends.jpg
END:VEVENT
END:VCALENDAR