BEGIN:VCALENDAR
VERSION:2.0
PRODID:-//The Colonial Oak Music Park - ECPv6.15.12.2//NONSGML v1.0//EN
CALSCALE:GREGORIAN
METHOD:PUBLISH
X-WR-CALNAME:The Colonial Oak Music Park
X-ORIGINAL-URL:https://www.thecolonialoakmusicpark.com
X-WR-CALDESC:Events for The Colonial Oak Music Park
REFRESH-INTERVAL;VALUE=DURATION:PT1H
X-Robots-Tag:noindex
X-PUBLISHED-TTL:PT1H
BEGIN:VTIMEZONE
TZID:UTC
BEGIN:STANDARD
TZOFFSETFROM:+0000
TZOFFSETTO:+0000
TZNAME:UTC
DTSTART:20220101T000000
END:STANDARD
END:VTIMEZONE
BEGIN:VEVENT
DTSTART;TZID=UTC:20231223T150000
DTEND;TZID=UTC:20231223T220000
DTSTAMP:20260420T211320
CREATED:20220214T001000Z
LAST-MODIFIED:20231128T025530Z
UID:15650-1703343600-1703368800@www.thecolonialoakmusicpark.com
SUMMARY:Sam Pacetti & The Groove Coalition - December 23
DESCRIPTION:Live music at the Oak from 3-10 PM! Free admission & family friendly! \n3-6 PM — Sam Pacetti \n7-10 PM — The Groove Coalition
URL:https://www.thecolonialoakmusicpark.com/event/sam-pacetti-the-groove-coalition-december-23/
LOCATION:Colonial Oak Music Park\, 21 St George Street\, St Augustine\, FL\, 32084\, United States
ATTACH;FMTTYPE=image/png:https://www.thecolonialoakmusicpark.com/wp-content/uploads/2022/02/Groove-Coalition-PNG.png
END:VEVENT
END:VCALENDAR