BEGIN:VCALENDAR
VERSION:2.0
PRODID:-//The Colonial Oak Music Park - ECPv6.15.12.2//NONSGML v1.0//EN
CALSCALE:GREGORIAN
METHOD:PUBLISH
X-ORIGINAL-URL:https://www.thecolonialoakmusicpark.com
X-WR-CALDESC:Events for The Colonial Oak Music Park
REFRESH-INTERVAL;VALUE=DURATION:PT1H
X-Robots-Tag:noindex
X-PUBLISHED-TTL:PT1H
BEGIN:VTIMEZONE
TZID:UTC
BEGIN:STANDARD
TZOFFSETFROM:+0000
TZOFFSETTO:+0000
TZNAME:UTC
DTSTART:20220101T000000
END:STANDARD
END:VTIMEZONE
BEGIN:VEVENT
DTSTART;TZID=UTC:20231222T150000
DTEND;TZID=UTC:20231222T220000
DTSTAMP:20260422T131740
CREATED:20220214T001531Z
LAST-MODIFIED:20231128T025349Z
UID:15648-1703257200-1703282400@www.thecolonialoakmusicpark.com
SUMMARY:Kyra Livingston & Bad Dog Mama - December 22
DESCRIPTION:Live music at the Oak from 3-10 PM! Free admission & family friendly! \n3-6 PM — Kyra Livingston \n7-10 PM — Bad Dog Mama
URL:https://www.thecolonialoakmusicpark.com/event/kyra-livingston-bad-dog-mama-december-22/
LOCATION:Colonial Oak Music Park\, 21 St George Street\, St Augustine\, FL\, 32084\, United States
ATTACH;FMTTYPE=image/jpeg:https://www.thecolonialoakmusicpark.com/wp-content/uploads/2020/05/SOL09132019-AslynandTheNaysayers-BadDogMama-Chemtrails-WobblyToms-AmyandSam-SpaceHeaters-26.jpg
END:VEVENT
END:VCALENDAR