BEGIN:VCALENDAR
VERSION:2.0
PRODID:-//The Colonial Oak Music Park - ECPv6.15.12.2//NONSGML v1.0//EN
CALSCALE:GREGORIAN
METHOD:PUBLISH
X-WR-CALNAME:The Colonial Oak Music Park
X-ORIGINAL-URL:https://www.thecolonialoakmusicpark.com
X-WR-CALDESC:Events for The Colonial Oak Music Park
REFRESH-INTERVAL;VALUE=DURATION:PT1H
X-Robots-Tag:noindex
X-PUBLISHED-TTL:PT1H
BEGIN:VTIMEZONE
TZID:UTC
BEGIN:STANDARD
TZOFFSETFROM:+0000
TZOFFSETTO:+0000
TZNAME:UTC
DTSTART:20220101T000000
END:STANDARD
END:VTIMEZONE
BEGIN:VEVENT
DTSTART;TZID=UTC:20231220T150000
DTEND;TZID=UTC:20231220T220000
DTSTAMP:20260420T211315
CREATED:20220214T002545Z
LAST-MODIFIED:20231128T024749Z
UID:15644-1703084400-1703109600@www.thecolonialoakmusicpark.com
SUMMARY:Josh "Tennessee" Worthy & Dyer Davis Group - December 20
DESCRIPTION:Live music at the Oak from 3-10 PM! Free admission & family friendly! \n3-6 PM — Josh “Tennessee” Worthy \n7-10 PM — Dyer Davis Group \n 
URL:https://www.thecolonialoakmusicpark.com/event/josh-tennessee-worthy-dyer-davis-group-december-20/
LOCATION:Colonial Oak Music Park\, 21 St George Street\, St Augustine\, FL\, 32084\, United States
END:VEVENT
END:VCALENDAR