BEGIN:VCALENDAR
VERSION:2.0
PRODID:-//The Colonial Oak Music Park - ECPv6.15.12.2//NONSGML v1.0//EN
CALSCALE:GREGORIAN
METHOD:PUBLISH
X-ORIGINAL-URL:https://www.thecolonialoakmusicpark.com
X-WR-CALDESC:Events for The Colonial Oak Music Park
REFRESH-INTERVAL;VALUE=DURATION:PT1H
X-Robots-Tag:noindex
X-PUBLISHED-TTL:PT1H
BEGIN:VTIMEZONE
TZID:UTC
BEGIN:STANDARD
TZOFFSETFROM:+0000
TZOFFSETTO:+0000
TZNAME:UTC
DTSTART:20220101T000000
END:STANDARD
END:VTIMEZONE
BEGIN:VEVENT
DTSTART;TZID=UTC:20231216T190000
DTEND;TZID=UTC:20231216T220000
DTSTAMP:20260420T211409
CREATED:20220214T003530Z
LAST-MODIFIED:20231121T202306Z
UID:15634-1702753200-1702764000@www.thecolonialoakmusicpark.com
SUMMARY:Caravel Concert Series w/ Blue Moon Band - December 16
DESCRIPTION:The Blue Moon Band is ready to rock the Colonial Quarter’s Maritime stage on December 16 from 7-10 PM \nDon’t miss this epic show brought to you in partnership with the St. Augustine Distillery. \nFree Admission\nFamily Friendly\nMultiple bars on site featuring St. Augustine Distillery spirits. \nSee you there! \n  \n\nEnter at the Bayfront – 14 S Castillo Dr\nOR\n\n\nDirectly on St. George Street next to The Bull and Crown Pub! 53 St. George Street.
URL:https://www.thecolonialoakmusicpark.com/event/caravel-concert-series-with-blue-moon-band-december-16/
LOCATION:Colonial Quarter
ATTACH;FMTTYPE=image/png:https://www.thecolonialoakmusicpark.com/wp-content/uploads/2023/11/Blue-Moon-Cover.png
END:VEVENT
END:VCALENDAR