BEGIN:VCALENDAR
VERSION:2.0
PRODID:-//The Colonial Oak Music Park - ECPv6.15.12.2//NONSGML v1.0//EN
CALSCALE:GREGORIAN
METHOD:PUBLISH
X-WR-CALNAME:The Colonial Oak Music Park
X-ORIGINAL-URL:https://www.thecolonialoakmusicpark.com
X-WR-CALDESC:Events for The Colonial Oak Music Park
REFRESH-INTERVAL;VALUE=DURATION:PT1H
X-Robots-Tag:noindex
X-PUBLISHED-TTL:PT1H
BEGIN:VTIMEZONE
TZID:UTC
BEGIN:STANDARD
TZOFFSETFROM:+0000
TZOFFSETTO:+0000
TZNAME:UTC
DTSTART:20220101T000000
END:STANDARD
END:VTIMEZONE
BEGIN:VEVENT
DTSTART;TZID=UTC:20231201T190000
DTEND;TZID=UTC:20231201T220000
DTSTAMP:20260420T134514
CREATED:20220214T013042Z
LAST-MODIFIED:20231026T153050Z
UID:15593-1701457200-1701468000@www.thecolonialoakmusicpark.com
SUMMARY:Baba Caiman - December 1
DESCRIPTION:Head to the Colonial Oak Music Park for a performance by Baba Caiman \nEnjoy live music\, cool drinks from the on-site bars\, and even grab dinner from the adjacent St. Augustine Seafood Company! \nFun for the whole family. \nFriendly dogs welcome!
URL:https://www.thecolonialoakmusicpark.com/event/baba-caiman-december-1/
LOCATION:Colonial Oak Music Park\, 21 St George Street\, St Augustine\, FL\, 32084\, United States
END:VEVENT
END:VCALENDAR