BEGIN:VCALENDAR
VERSION:2.0
PRODID:-//The Colonial Oak Music Park - ECPv6.15.12.2//NONSGML v1.0//EN
CALSCALE:GREGORIAN
METHOD:PUBLISH
X-ORIGINAL-URL:https://www.thecolonialoakmusicpark.com
X-WR-CALDESC:Events for The Colonial Oak Music Park
REFRESH-INTERVAL;VALUE=DURATION:PT1H
X-Robots-Tag:noindex
X-PUBLISHED-TTL:PT1H
BEGIN:VTIMEZONE
TZID:UTC
BEGIN:STANDARD
TZOFFSETFROM:+0000
TZOFFSETTO:+0000
TZNAME:UTC
DTSTART:20220101T000000
END:STANDARD
END:VTIMEZONE
BEGIN:VEVENT
DTSTART;TZID=UTC:20231116T190000
DTEND;TZID=UTC:20231116T220000
DTSTAMP:20260420T101324
CREATED:20220214T022520Z
LAST-MODIFIED:20231026T142944Z
UID:15578-1700161200-1700172000@www.thecolonialoakmusicpark.com
SUMMARY:Playin' Possum - November 16
DESCRIPTION:Head to the Colonial Oak Music Park for a performance by Playin’ Possum! \nEnjoy live music\, cool drinks from the on-site bars\, and even grab dinner from the adjacent St. Augustine Seafood Company! \nFun for the whole family. \nFriendly dogs welcome!
URL:https://www.thecolonialoakmusicpark.com/event/playin-possum-november-16/
LOCATION:Colonial Oak Music Park\, 21 St George Street\, St Augustine\, FL\, 32084\, United States
ATTACH;FMTTYPE=image/jpeg:https://www.thecolonialoakmusicpark.com/wp-content/uploads/2022/02/Playin-Possum-copy-scaled.jpg
END:VEVENT
END:VCALENDAR