BEGIN:VCALENDAR
VERSION:2.0
PRODID:-//The Colonial Oak Music Park - ECPv6.15.12.2//NONSGML v1.0//EN
CALSCALE:GREGORIAN
METHOD:PUBLISH
X-WR-CALNAME:The Colonial Oak Music Park
X-ORIGINAL-URL:https://www.thecolonialoakmusicpark.com
X-WR-CALDESC:Events for The Colonial Oak Music Park
REFRESH-INTERVAL;VALUE=DURATION:PT1H
X-Robots-Tag:noindex
X-PUBLISHED-TTL:PT1H
BEGIN:VTIMEZONE
TZID:UTC
BEGIN:STANDARD
TZOFFSETFROM:+0000
TZOFFSETTO:+0000
TZNAME:UTC
DTSTART:20220101T000000
END:STANDARD
END:VTIMEZONE
BEGIN:VEVENT
DTSTART;TZID=UTC:20231005T190000
DTEND;TZID=UTC:20231005T220000
DTSTAMP:20260420T211434
CREATED:20220214T050032Z
LAST-MODIFIED:20230912T182743Z
UID:15481-1696532400-1696543200@www.thecolonialoakmusicpark.com
SUMMARY:Rio Grande Band - October 5
DESCRIPTION:Head to the Colonial Oak Music Park for Country Night featuring Rio Grande! \nEnjoy live music\, cool drinks from the on-site bars\, and even grab dinner from the adjacent St. Augustine Seafood Company! \nFun for the whole family. \nFriendly dogs welcome!
URL:https://www.thecolonialoakmusicpark.com/event/rio-grande-band-october-5/
LOCATION:Colonial Oak Music Park\, 21 St George Street\, St Augustine\, FL\, 32084\, United States
CATEGORIES:Country Night
ATTACH;FMTTYPE=image/jpeg:https://www.thecolonialoakmusicpark.com/wp-content/uploads/2023/03/RIO-GRANDE-scaled.jpg
END:VEVENT
END:VCALENDAR