BEGIN:VCALENDAR
VERSION:2.0
PRODID:-//The Colonial Oak Music Park - ECPv6.15.12.2//NONSGML v1.0//EN
CALSCALE:GREGORIAN
METHOD:PUBLISH
X-WR-CALNAME:The Colonial Oak Music Park
X-ORIGINAL-URL:https://www.thecolonialoakmusicpark.com
X-WR-CALDESC:Events for The Colonial Oak Music Park
REFRESH-INTERVAL;VALUE=DURATION:PT1H
X-Robots-Tag:noindex
X-PUBLISHED-TTL:PT1H
BEGIN:VTIMEZONE
TZID:UTC
BEGIN:STANDARD
TZOFFSETFROM:+0000
TZOFFSETTO:+0000
TZNAME:UTC
DTSTART:20220101T000000
END:STANDARD
END:VTIMEZONE
BEGIN:VEVENT
DTSTART;TZID=UTC:20230923T180000
DTEND;TZID=UTC:20230923T220000
DTSTAMP:20260421T222828
CREATED:20220214T054029Z
LAST-MODIFIED:20230817T153723Z
UID:15371-1695492000-1695506400@www.thecolonialoakmusicpark.com
SUMMARY:Amy Robbins + MORE!  - September 23
DESCRIPTION:September brings the Sing Out Loud Showcase to the Oak! Join us for this annual epic celebration of live music in the Nation’s Oldest City!\nSaturday\, September 23\n6:00 PM – TBA\n7:00 PM – TBA\n8:00 PM – Amy Robbins Band\n9:00 PM – TBA\n***All Sing Out Loud performances at the Oak are free and family friendly***\n  \nAmy Robbins
URL:https://www.thecolonialoakmusicpark.com/event/sing-out-loud-showcase-september-23/
LOCATION:Colonial Oak Music Park\, 21 St George Street\, St Augustine\, FL\, 32084\, United States
ATTACH;FMTTYPE=image/png:https://www.thecolonialoakmusicpark.com/wp-content/uploads/2023/07/Wordpress-Header.png
END:VEVENT
END:VCALENDAR