BEGIN:VCALENDAR
VERSION:2.0
PRODID:-//The Colonial Oak Music Park - ECPv6.15.12.2//NONSGML v1.0//EN
CALSCALE:GREGORIAN
METHOD:PUBLISH
X-WR-CALNAME:The Colonial Oak Music Park
X-ORIGINAL-URL:https://www.thecolonialoakmusicpark.com
X-WR-CALDESC:Events for The Colonial Oak Music Park
REFRESH-INTERVAL;VALUE=DURATION:PT1H
X-Robots-Tag:noindex
X-PUBLISHED-TTL:PT1H
BEGIN:VTIMEZONE
TZID:UTC
BEGIN:STANDARD
TZOFFSETFROM:+0000
TZOFFSETTO:+0000
TZNAME:UTC
DTSTART:20220101T000000
END:STANDARD
END:VTIMEZONE
BEGIN:VEVENT
DTSTART;TZID=UTC:20230922T180000
DTEND;TZID=UTC:20230922T220000
DTSTAMP:20260421T172055
CREATED:20220214T054511Z
LAST-MODIFIED:20230817T153133Z
UID:15369-1695405600-1695420000@www.thecolonialoakmusicpark.com
SUMMARY:Ramona & The Riot + MORE! - September 22
DESCRIPTION:September brings the Sing Out Loud Showcase to the Oak! Join us for this annual epic celebration of live music in the Nation’s Oldest City!\nFriday\, September 22\n6:00 PM – Billy Buchanan & His Rock ‘N Soul Revue\n7:30 PM – TBA\n9:00 PM – Ramona & The Riot\n***All Sing Out Loud performances at the Oak are free and family friendly***\n  \n\n		\n		\n			\n				\n			\n				\n				Billy Buchanan\n				\n			\n				\n			\n				\n				Ramona & the Riot\n				\n			\n		\n\n 
URL:https://www.thecolonialoakmusicpark.com/event/sing-out-loud-showcase-september-22/
LOCATION:Colonial Oak Music Park\, 21 St George Street\, St Augustine\, FL\, 32084\, United States
ATTACH;FMTTYPE=image/png:https://www.thecolonialoakmusicpark.com/wp-content/uploads/2023/07/Wordpress-Header.png
END:VEVENT
END:VCALENDAR