BEGIN:VCALENDAR
VERSION:2.0
PRODID:-//The Colonial Oak Music Park - ECPv6.15.12.2//NONSGML v1.0//EN
CALSCALE:GREGORIAN
METHOD:PUBLISH
X-WR-CALNAME:The Colonial Oak Music Park
X-ORIGINAL-URL:https://www.thecolonialoakmusicpark.com
X-WR-CALDESC:Events for The Colonial Oak Music Park
REFRESH-INTERVAL;VALUE=DURATION:PT1H
X-Robots-Tag:noindex
X-PUBLISHED-TTL:PT1H
BEGIN:VTIMEZONE
TZID:UTC
BEGIN:STANDARD
TZOFFSETFROM:+0000
TZOFFSETTO:+0000
TZNAME:UTC
DTSTART:20220101T000000
END:STANDARD
END:VTIMEZONE
BEGIN:VEVENT
DTSTART;TZID=UTC:20230917T150000
DTEND;TZID=UTC:20230917T210000
DTSTAMP:20260420T161327
CREATED:20220214T060034Z
LAST-MODIFIED:20230817T173424Z
UID:15367-1694962800-1694984400@www.thecolonialoakmusicpark.com
SUMMARY:Grant Peeples + MORE! - September 17
DESCRIPTION:September brings the Sing Out Loud Showcase to the Oak! Join us for this annual epic celebration of live music in the Nation’s Oldest City!\nSunday\, September 17\n3:00 PM – Skin & Bonz\n4:15 PM – The Taildraggers\n5:30 PM – The Thick & Thin String Band\n6:45 PM – Wild Shiners\n8:00 PM – Grant Peeples\n***All Sing Out Loud performances at the Oak are free and family friendly***\n\n		\n		\n			\n				\n			\n				\n				Grant Peeples\n				\n			\n				\n			\n				\n				Skin & Bonz\n				\n			\n				\n			\n				\n				Thick & Thin String Band\n				\n			\n				\n			\n				\n				Wild Shiners
URL:https://www.thecolonialoakmusicpark.com/event/sing-out-loud-showcase-september-17/
LOCATION:Colonial Oak Music Park\, 21 St George Street\, St Augustine\, FL\, 32084\, United States
ATTACH;FMTTYPE=image/png:https://www.thecolonialoakmusicpark.com/wp-content/uploads/2023/07/Wordpress-Header.png
END:VEVENT
END:VCALENDAR