BEGIN:VCALENDAR
VERSION:2.0
PRODID:-//The Colonial Oak Music Park - ECPv6.15.12.2//NONSGML v1.0//EN
CALSCALE:GREGORIAN
METHOD:PUBLISH
X-ORIGINAL-URL:https://www.thecolonialoakmusicpark.com
X-WR-CALDESC:Events for The Colonial Oak Music Park
REFRESH-INTERVAL;VALUE=DURATION:PT1H
X-Robots-Tag:noindex
X-PUBLISHED-TTL:PT1H
BEGIN:VTIMEZONE
TZID:UTC
BEGIN:STANDARD
TZOFFSETFROM:+0000
TZOFFSETTO:+0000
TZNAME:UTC
DTSTART:20220101T000000
END:STANDARD
END:VTIMEZONE
BEGIN:VEVENT
DTSTART;TZID=UTC:20230909T170000
DTEND;TZID=UTC:20230909T220000
DTSTAMP:20260420T161507
CREATED:20220214T063011Z
LAST-MODIFIED:20230817T143742Z
UID:15358-1694278800-1694296800@www.thecolonialoakmusicpark.com
SUMMARY:Sun Drop Social + MORE! - September 9
DESCRIPTION:September brings the Sing Out Loud Showcase to the Oak! Join us for this annual epic celebration of live music in the Nation’s Oldest City!\nSaturday\, September 9\n5:00 PM — I-Vibes\n6:00 PM — Pili Pili ft. Sailor Jane\n7:30 PM — DJ Raggamuffin\n9:00 PM — Sun Drop Social \n***All Sing Out Loud performances at the Oak are free and family friendly***\n  \nI-Vibes Photo courtesy of Kevin McDonald \n 
URL:https://www.thecolonialoakmusicpark.com/event/sing-out-loud-showcase-september-9/
LOCATION:Colonial Oak Music Park\, 21 St George Street\, St Augustine\, FL\, 32084\, United States
ATTACH;FMTTYPE=image/png:https://www.thecolonialoakmusicpark.com/wp-content/uploads/2023/07/Wordpress-Header.png
END:VEVENT
END:VCALENDAR