BEGIN:VCALENDAR
VERSION:2.0
PRODID:-//The Colonial Oak Music Park - ECPv6.15.12.2//NONSGML v1.0//EN
CALSCALE:GREGORIAN
METHOD:PUBLISH
X-ORIGINAL-URL:https://www.thecolonialoakmusicpark.com
X-WR-CALDESC:Events for The Colonial Oak Music Park
REFRESH-INTERVAL;VALUE=DURATION:PT1H
X-Robots-Tag:noindex
X-PUBLISHED-TTL:PT1H
BEGIN:VTIMEZONE
TZID:UTC
BEGIN:STANDARD
TZOFFSETFROM:+0000
TZOFFSETTO:+0000
TZNAME:UTC
DTSTART:20220101T000000
END:STANDARD
END:VTIMEZONE
BEGIN:VEVENT
DTSTART;TZID=UTC:20230908T180000
DTEND;TZID=UTC:20230908T220000
DTSTAMP:20260420T211531
CREATED:20220214T063544Z
LAST-MODIFIED:20230817T135236Z
UID:15356-1694196000-1694210400@www.thecolonialoakmusicpark.com
SUMMARY:Cat Ridgeway & The Tourists + MORE - September 8
DESCRIPTION:September brings the Sing Out Loud Showcase to the Oak! Join us for this annual epic celebration of live music in the Nation’s Oldest City! \nFriday\, September 8 \n6:00 PM – Rambler Kane\n7:30 PM – Rancho La Chua\n9:00 PM – Cat Ridgeway & The Tourists\n***All Sing Out Loud performances at the Oak are free and family friendly*** \n  \n  \n\n		\n		\n			\n				\n			\n				\n				Cat Ridgeway & The Tourists\n				\n			\n				\n			\n				\n				Rambler Kane\n				\n			\n				\n			\n				\n				Rancho La Chua\n				\n		\n\n  \n 
URL:https://www.thecolonialoakmusicpark.com/event/sing-out-loud-showcase-september-8/
LOCATION:Colonial Oak Music Park\, 21 St George Street\, St Augustine\, FL\, 32084\, United States
ATTACH;FMTTYPE=image/png:https://www.thecolonialoakmusicpark.com/wp-content/uploads/2023/07/Wordpress-Header.png
END:VEVENT
END:VCALENDAR