BEGIN:VCALENDAR
VERSION:2.0
PRODID:-//The Colonial Oak Music Park - ECPv6.15.12.2//NONSGML v1.0//EN
CALSCALE:GREGORIAN
METHOD:PUBLISH
X-ORIGINAL-URL:https://www.thecolonialoakmusicpark.com
X-WR-CALDESC:Events for The Colonial Oak Music Park
REFRESH-INTERVAL;VALUE=DURATION:PT1H
X-Robots-Tag:noindex
X-PUBLISHED-TTL:PT1H
BEGIN:VTIMEZONE
TZID:UTC
BEGIN:STANDARD
TZOFFSETFROM:+0000
TZOFFSETTO:+0000
TZNAME:UTC
DTSTART:20220101T000000
END:STANDARD
END:VTIMEZONE
BEGIN:VEVENT
DTSTART;TZID=UTC:20230503T193000
DTEND;TZID=UTC:20230503T210000
DTSTAMP:20260421T092129
CREATED:20220214T143021Z
LAST-MODIFIED:20230330T162945Z
UID:15086-1683142200-1683147600@www.thecolonialoakmusicpark.com
SUMMARY:Improv Comedy Night - May 3
DESCRIPTION:Your First Coast Comedy veteran professionals have no plan and willingly dive headfirst into almost any challenge the audience will throw at them\, resulting in unforgettably hilarious moments. \n\nAnd it gets better! This show is for everyone! You can bring the whole family because these improvisers play smart… to ensure the show is always clean and never mean! \n\nPay-What-You-Will.\n\nAll seating is General Admission.\n\nNo ticket is better than any other. Just pay what you think the experience is worth.
URL:https://www.thecolonialoakmusicpark.com/event/improv-comedy-night-may-3/
LOCATION:Colonial Oak Music Park\, 21 St George Street\, St Augustine\, FL\, 32084\, United States
END:VEVENT
END:VCALENDAR