BEGIN:VCALENDAR
VERSION:2.0
PRODID:-//The Colonial Oak Music Park - ECPv6.15.12.2//NONSGML v1.0//EN
CALSCALE:GREGORIAN
METHOD:PUBLISH
X-ORIGINAL-URL:https://www.thecolonialoakmusicpark.com
X-WR-CALDESC:Events for The Colonial Oak Music Park
REFRESH-INTERVAL;VALUE=DURATION:PT1H
X-Robots-Tag:noindex
X-PUBLISHED-TTL:PT1H
BEGIN:VTIMEZONE
TZID:UTC
BEGIN:STANDARD
TZOFFSETFROM:+0000
TZOFFSETTO:+0000
TZNAME:UTC
DTSTART:20220101T000000
END:STANDARD
END:VTIMEZONE
BEGIN:VEVENT
DTSTART;TZID=UTC:20230323T190000
DTEND;TZID=UTC:20230323T220000
DTSTAMP:20260421T203829
CREATED:20220214T165036Z
LAST-MODIFIED:20230215T183327Z
UID:14975-1679598000-1679608800@www.thecolonialoakmusicpark.com
SUMMARY:Josh Ford And The Groove Bender - March 23
DESCRIPTION:Check out Josh Ford and the Groove Bender at the Colonial Oak Music Park on Thursday March 23 for Country Night! \n7-10 PM \nFree Admission \nFamily Friendly!
URL:https://www.thecolonialoakmusicpark.com/event/josh-ford-and-the-groove-bender-march-23/
LOCATION:Colonial Oak Music Park\, 21 St George Street\, St Augustine\, FL\, 32084\, United States
CATEGORIES:Country Night
ATTACH;FMTTYPE=image/jpeg:https://www.thecolonialoakmusicpark.com/wp-content/uploads/2022/08/Josh-Ford-the-Groove-Bender.jpg
END:VEVENT
END:VCALENDAR