BEGIN:VCALENDAR
VERSION:2.0
PRODID:-//The Colonial Oak Music Park - ECPv6.15.12.2//NONSGML v1.0//EN
CALSCALE:GREGORIAN
METHOD:PUBLISH
X-ORIGINAL-URL:https://www.thecolonialoakmusicpark.com
X-WR-CALDESC:Events for The Colonial Oak Music Park
REFRESH-INTERVAL;VALUE=DURATION:PT1H
X-Robots-Tag:noindex
X-PUBLISHED-TTL:PT1H
BEGIN:VTIMEZONE
TZID:UTC
BEGIN:STANDARD
TZOFFSETFROM:+0000
TZOFFSETTO:+0000
TZNAME:UTC
DTSTART:20220101T000000
END:STANDARD
END:VTIMEZONE
BEGIN:VEVENT
DTSTART;TZID=UTC:20230318T190000
DTEND;TZID=UTC:20230318T220000
DTSTAMP:20260421T203829
CREATED:20220214T170517Z
LAST-MODIFIED:20230215T185130Z
UID:14989-1679166000-1679176800@www.thecolonialoakmusicpark.com
SUMMARY:Ramona & The Riot! - March 18
DESCRIPTION:Check out Ramona & the Riot! at the Colonial Oak Music Park on March 18 \n7-10 PM \nFree Admission \nFamily Friendly!
URL:https://www.thecolonialoakmusicpark.com/event/ramona-the-riot-march-18/
LOCATION:Colonial Oak Music Park\, 21 St George Street\, St Augustine\, FL\, 32084\, United States
ATTACH;FMTTYPE=image/png:https://www.thecolonialoakmusicpark.com/wp-content/uploads/2022/02/Screen-Shot-2022-02-28-at-1.52.15-PM.png
END:VEVENT
END:VCALENDAR