BEGIN:VCALENDAR
VERSION:2.0
PRODID:-//The Colonial Oak Music Park - ECPv6.15.12.2//NONSGML v1.0//EN
CALSCALE:GREGORIAN
METHOD:PUBLISH
X-ORIGINAL-URL:https://www.thecolonialoakmusicpark.com
X-WR-CALDESC:Events for The Colonial Oak Music Park
REFRESH-INTERVAL;VALUE=DURATION:PT1H
X-Robots-Tag:noindex
X-PUBLISHED-TTL:PT1H
BEGIN:VTIMEZONE
TZID:UTC
BEGIN:STANDARD
TZOFFSETFROM:+0000
TZOFFSETTO:+0000
TZNAME:UTC
DTSTART:20220101T000000
END:STANDARD
END:VTIMEZONE
BEGIN:VEVENT
DTSTART;TZID=UTC:20230316T190000
DTEND;TZID=UTC:20230316T220000
DTSTAMP:20260421T203709
CREATED:20220214T171545Z
LAST-MODIFIED:20230215T183050Z
UID:14972-1678993200-1679004000@www.thecolonialoakmusicpark.com
SUMMARY:Rio Grande - March 16
DESCRIPTION:Check out Rio Grande at the Colonial Oak Music Park on Thursday March 16 for Country Night! \n7-10 PM \nFree Admission \nFamily Friendly!
URL:https://www.thecolonialoakmusicpark.com/event/rio-grande-march-16/
LOCATION:Colonial Oak Music Park\, 21 St George Street\, St Augustine\, FL\, 32084\, United States
CATEGORIES:Country Night
ATTACH;FMTTYPE=image/jpeg:https://www.thecolonialoakmusicpark.com/wp-content/uploads/2023/02/312529821_563359365791706_741692675563035166_n.jpg
END:VEVENT
END:VCALENDAR