BEGIN:VCALENDAR
VERSION:2.0
PRODID:-//The Colonial Oak Music Park - ECPv6.15.12.2//NONSGML v1.0//EN
CALSCALE:GREGORIAN
METHOD:PUBLISH
X-ORIGINAL-URL:https://www.thecolonialoakmusicpark.com
X-WR-CALDESC:Events for The Colonial Oak Music Park
REFRESH-INTERVAL;VALUE=DURATION:PT1H
X-Robots-Tag:noindex
X-PUBLISHED-TTL:PT1H
BEGIN:VTIMEZONE
TZID:UTC
BEGIN:STANDARD
TZOFFSETFROM:+0000
TZOFFSETTO:+0000
TZNAME:UTC
DTSTART:20220101T000000
END:STANDARD
END:VTIMEZONE
BEGIN:VEVENT
DTSTART;TZID=UTC:20230309T190000
DTEND;TZID=UTC:20230309T220000
DTSTAMP:20260421T203905
CREATED:20220214T174007Z
LAST-MODIFIED:20230215T182251Z
UID:14970-1678388400-1678399200@www.thecolonialoakmusicpark.com
SUMMARY:Dean Winter & The Heat - March 9
DESCRIPTION:Check out Dean Winter & The Heat at the Colonial Oak Music Park on Thursday March 9 for Country Night! \n7-10 PM \nFree Admission \nFamily Friendly!
URL:https://www.thecolonialoakmusicpark.com/event/dean-winter-the-heat-march-9/
LOCATION:Colonial Oak Music Park\, 21 St George Street\, St Augustine\, FL\, 32084\, United States
ATTACH;FMTTYPE=image/jpeg:https://www.thecolonialoakmusicpark.com/wp-content/uploads/2022/08/Dean-Winter-the-Heat.jpg
END:VEVENT
END:VCALENDAR