BEGIN:VCALENDAR
VERSION:2.0
PRODID:-//The Colonial Oak Music Park - ECPv6.15.12.2//NONSGML v1.0//EN
CALSCALE:GREGORIAN
METHOD:PUBLISH
X-ORIGINAL-URL:https://www.thecolonialoakmusicpark.com
X-WR-CALDESC:Events for The Colonial Oak Music Park
REFRESH-INTERVAL;VALUE=DURATION:PT1H
X-Robots-Tag:noindex
X-PUBLISHED-TTL:PT1H
BEGIN:VTIMEZONE
TZID:UTC
BEGIN:STANDARD
TZOFFSETFROM:+0000
TZOFFSETTO:+0000
TZNAME:UTC
DTSTART:20220101T000000
END:STANDARD
END:VTIMEZONE
BEGIN:VEVENT
DTSTART;TZID=UTC:20230225T190000
DTEND;TZID=UTC:20230225T220000
DTSTAMP:20260421T222935
CREATED:20220214T164023Z
LAST-MODIFIED:20230215T185501Z
UID:14993-1677351600-1677362400@www.thecolonialoakmusicpark.com
SUMMARY:Blue Moon - March 25
DESCRIPTION:Check out Blue Moon at the Colonial Oak Music Park on March 25 \n7-10 PM \nFree Admission \nFamily Friendly!
URL:https://www.thecolonialoakmusicpark.com/event/blue-moon-march-25/
LOCATION:Colonial Oak Music Park\, 21 St George Street\, St Augustine\, FL\, 32084\, United States
ATTACH;FMTTYPE=image/jpeg:https://www.thecolonialoakmusicpark.com/wp-content/uploads/2022/12/311281360_10229020283115568_9113445096171617820_n.jpg
END:VEVENT
BEGIN:VEVENT
DTSTART;TZID=UTC:20230225T190000
DTEND;TZID=UTC:20230225T220000
DTSTAMP:20260421T222935
CREATED:20220214T182020Z
LAST-MODIFIED:20221229T173502Z
UID:14845-1677351600-1677362400@www.thecolonialoakmusicpark.com
SUMMARY:TBA! - February 25
DESCRIPTION:Free live music at the Oak on February 25 from 7-10 PM \nArtist TBA!
URL:https://www.thecolonialoakmusicpark.com/event/tba-february-25/
LOCATION:Colonial Oak Music Park\, 21 St George Street\, St Augustine\, FL\, 32084\, United States
ATTACH;FMTTYPE=image/png:https://www.thecolonialoakmusicpark.com/wp-content/uploads/2022/10/TBA-e1744214817723.png
END:VEVENT
END:VCALENDAR