BEGIN:VCALENDAR
VERSION:2.0
PRODID:-//The Colonial Oak Music Park - ECPv6.15.12.2//NONSGML v1.0//EN
CALSCALE:GREGORIAN
METHOD:PUBLISH
X-ORIGINAL-URL:https://www.thecolonialoakmusicpark.com
X-WR-CALDESC:Events for The Colonial Oak Music Park
REFRESH-INTERVAL;VALUE=DURATION:PT1H
X-Robots-Tag:noindex
X-PUBLISHED-TTL:PT1H
BEGIN:VTIMEZONE
TZID:UTC
BEGIN:STANDARD
TZOFFSETFROM:+0000
TZOFFSETTO:+0000
TZNAME:UTC
DTSTART:20220101T000000
END:STANDARD
END:VTIMEZONE
BEGIN:VEVENT
DTSTART;TZID=UTC:20230204T190000
DTEND;TZID=UTC:20230204T220000
DTSTAMP:20260422T164346
CREATED:20220214T193509Z
LAST-MODIFIED:20221229T170223Z
UID:14818-1675537200-1675548000@www.thecolonialoakmusicpark.com
SUMMARY:Dewey Via - February 4
DESCRIPTION:Dewey Via returns to the Colonial Oak on February 4 \n7-10 PM \nFree admission \nFamily friendly \n 
URL:https://www.thecolonialoakmusicpark.com/event/dewey-via-february-4/
LOCATION:Colonial Oak Music Park\, 21 St George Street\, St Augustine\, FL\, 32084\, United States
ATTACH;FMTTYPE=image/jpeg:https://www.thecolonialoakmusicpark.com/wp-content/uploads/2022/05/Dewey-Via.jpg
END:VEVENT
END:VCALENDAR